BEGIN:VCALENDAR
VERSION:2.0
PRODID:-//wp-events-plugin.com//6.4.7.3//EN
TZID:America/New_York
X-WR-TIMEZONE:America/New_York
BEGIN:VEVENT
UID:7@losninosprimerousa.org
DTSTART:20240427T130000Z
DTEND:20240427T130000Z
DTSTAMP:20240409T140518Z
URL:https://losninosprimerousa.org/events/dia-del-nino/
SUMMARY:Día del Niño
DESCRIPTION:A traditional Mexican holiday\, Día del Niño\, or Day of the 
 Child\, is a day dedicated to celebrating all the fun and whimsy of childh
 ood.
ATTACH;FMTTYPE=image/jpeg:https://losninosprimerousa.org/wp-content/upload
 s/2023/11/Dia-de-nino.jpg
END:VEVENT
END:VCALENDAR